BEGIN:VCALENDAR
VERSION:2.0
PRODID:-//Tukios.com/
BEGIN:VEVENT
UID:7a59ceda-c716-42a7-b320-e81ccff6bba8@www.rasmussenmortuary.com
DTSTAMP:20260421T235935Z
DTSTART:20260425T163000Z
DTEND:20260425T183000Z
SUMMARY:Visitation
DESCRIPTION:
URL:https://www.rasmussenmortuary.com/obituaries/jean-draper
LOCATION: 410 North 800 West  Vernal UT 84078
GEO:40.4555892;-109.5429299
END:VEVENT
END:VCALENDAR