BEGIN:VCALENDAR
VERSION:2.0
PRODID:-//Tukios.com/
BEGIN:VEVENT
UID:099d1461-e08a-40bc-90b7-7660b2bf66d9@www.rasmussenmortuary.com
DTSTAMP:20260422T000103Z
DTSTART:20260425T190000Z
DTEND:20260425T200000Z
SUMMARY:Graveside Service
DESCRIPTION:
URL:https://www.rasmussenmortuary.com/obituaries/jean-draper
LOCATION:Vernal Memorial Park 1750 South 500 East  Vernal UT 84078
GEO:40.4304551;-109.5219497
END:VEVENT
END:VCALENDAR