BEGIN:VCALENDAR
VERSION:2.0
PRODID:-//Tukios.com/
BEGIN:VEVENT
UID:4b5c2c77-cf84-4567-81b7-2089f159042d@www.rasmussenmortuary.com
DTSTAMP:20260420T204846Z
DTSTART:20260424T000000Z
DTEND:20260424T020000Z
SUMMARY:Viewing
DESCRIPTION:
URL:https://www.rasmussenmortuary.com/obituaries/kaybre-whitaker
LOCATION: 25 South Main Street  Kanosh UT 84637
GEO:38.8008507;-112.4371365
END:VEVENT
END:VCALENDAR