BEGIN:VCALENDAR
VERSION:2.0
PRODID:-//Tukios.com/
BEGIN:VEVENT
UID:64835ccc-b236-4677-be82-5a2de8bfb227@www.rasmussenmortuary.com
DTSTAMP:20260420T205019Z
DTSTART:20260424T153000Z
DTEND:20260424T163000Z
SUMMARY:Viewing
DESCRIPTION:
URL:https://www.rasmussenmortuary.com/obituaries/kaybre-whitaker
LOCATION:Flowell Ward Chapel 4212 West 500 North  Fillmore UT 84631
GEO:38.9797423;-112.4366222
END:VEVENT
END:VCALENDAR