BEGIN:VCALENDAR
VERSION:2.0
PRODID:-//Tukios.com/
BEGIN:VEVENT
UID:9ad252bc-7f8b-4404-8fa5-78628669446b@www.rasmussenmortuary.com
DTSTAMP:20260420T205244Z
DTSTART:20260424T170000Z
DTEND:20260424T173000Z
SUMMARY:Funeral Service
DESCRIPTION:
URL:https://www.rasmussenmortuary.com/obituaries/kaybre-whitaker
LOCATION: 4212 West 500 North  Fillmore UT 84631
GEO:38.9797423;-112.4366222
END:VEVENT
END:VCALENDAR