BEGIN:VCALENDAR
VERSION:2.0
PRODID:-//Tukios.com/
BEGIN:VEVENT
UID:fffd4cf0-3dbc-4cba-a502-2ff1853aeb47@www.rasmussenmortuary.com
DTSTAMP:20260423T042743Z
DTSTART:20260429T160000Z
DTEND:20260429T170000Z
SUMMARY:Funeral Service
DESCRIPTION:
URL:https://www.rasmussenmortuary.com/obituaries/valorie-hare
LOCATION:Fillmore 1st Ward 290 East 500 South  Fillmore UT 84631
GEO:38.9575765;-112.315196
END:VEVENT
END:VCALENDAR