BEGIN:VCALENDAR
VERSION:2.0
PRODID:-//Tukios.com/
BEGIN:VEVENT
UID:5f340588-6435-4488-8d93-fa057ce762a5@www.rasmussenmortuary.com
DTSTAMP:20260423T041915Z
DTSTART:20260429T170000Z
DTEND:20260429T180000Z
SUMMARY:Graveside Service
DESCRIPTION:
URL:https://www.rasmussenmortuary.com/obituaries/valorie-hare
LOCATION:Fillmore City Cemetery 555 S 400 E  Fillmore UT 84631
GEO:38.9555551;-112.3145385
END:VEVENT
END:VCALENDAR